BEGIN:VCALENDAR
VERSION:2.0
PRODID:-//IMRG Pontault - ECPv6.15.20//NONSGML v1.0//EN
CALSCALE:GREGORIAN
METHOD:PUBLISH
X-ORIGINAL-URL:https://imrgpontault.fr
X-WR-CALDESC:Évènements pour IMRG Pontault
REFRESH-INTERVAL;VALUE=DURATION:PT1H
X-Robots-Tag:noindex
X-PUBLISHED-TTL:PT1H
BEGIN:VTIMEZONE
TZID:Europe/Paris
BEGIN:DAYLIGHT
TZOFFSETFROM:+0100
TZOFFSETTO:+0200
TZNAME:CEST
DTSTART:20250330T010000
END:DAYLIGHT
BEGIN:STANDARD
TZOFFSETFROM:+0200
TZOFFSETTO:+0100
TZNAME:CET
DTSTART:20251026T010000
END:STANDARD
BEGIN:DAYLIGHT
TZOFFSETFROM:+0100
TZOFFSETTO:+0200
TZNAME:CEST
DTSTART:20260329T010000
END:DAYLIGHT
BEGIN:STANDARD
TZOFFSETFROM:+0200
TZOFFSETTO:+0100
TZNAME:CET
DTSTART:20261025T010000
END:STANDARD
BEGIN:DAYLIGHT
TZOFFSETFROM:+0100
TZOFFSETTO:+0200
TZNAME:CEST
DTSTART:20270328T010000
END:DAYLIGHT
BEGIN:STANDARD
TZOFFSETFROM:+0200
TZOFFSETTO:+0100
TZNAME:CET
DTSTART:20271031T010000
END:STANDARD
END:VTIMEZONE
BEGIN:VEVENT
DTSTART;TZID=Europe/Paris:20260501T080000
DTEND;TZID=Europe/Paris:20260503T180000
DTSTAMP:20260421T162607
CREATED:20251125T142814Z
LAST-MODIFIED:20260316T163907Z
UID:4085-1777622400-1777831200@imrgpontault.fr
SUMMARY:Baie de Somme - entre ciel et mer
DESCRIPTION:L’IMRG PONTAULT vous propose de passer le week-end du 1er Mai en baie de Somme.Les modalités seront communiquées ultérieurement !!
URL:https://imrgpontault.fr/evenement/baie-de-somme-entre-ciel-et-mer/
ATTACH;FMTTYPE=image/jpeg:https://imrgpontault.fr/wp-content/uploads/2025/11/WhatsApp-Image-2026-01-31-at-19.56.22-1.jpeg
END:VEVENT
BEGIN:VEVENT
DTSTART;TZID=Europe/Paris:20260509T170000
DTEND;TZID=Europe/Paris:20260513T170000
DTSTAMP:20260421T162607
CREATED:20251125T143021Z
LAST-MODIFIED:20251125T143259Z
UID:4087-1778346000-1778691600@imrgpontault.fr
SUMMARY:Dernière édition de la Corsica 2026
DESCRIPTION:Cette année\, votre IMRG vous propose d’assister à la CORSICA 2026.Du 09 au 13 mai 2026 à LOZARI\, pour vous faire découvrir une autre micro région de l’île de beauté: LA BALAGNE !La Corsica vous propose 10 à 12 nouveaux parcours\, dont 2 accompagnés.C’est le village vacances Belambra qui nous accueille\, dans le golfe de Lozari\, proche de Calvi et de l’île Rousse.La formule change un peu car les bungalows n’ont que 2 chambres et seront occupés par 2 personnes\, 1 couple ou 2 célibataires.Grande piscine et une des plus belle plage de Corse.Réservation libre https://www.indianriderscorsica.com/copie-de-corsica-2024-1Les modalités du séjour seront communiquées ultérieurement. 
URL:https://imrgpontault.fr/evenement/derniere-edition-de-la-corsica-2026/
ATTACH;FMTTYPE=image/jpeg:https://imrgpontault.fr/wp-content/uploads/2025/11/corsica_2026.jpg
END:VEVENT
BEGIN:VEVENT
DTSTART;TZID=Europe/Paris:20260514T080000
DTEND;TZID=Europe/Paris:20260517T180000
DTSTAMP:20260421T162607
CREATED:20251125T143155Z
LAST-MODIFIED:20260202T145918Z
UID:4089-1778745600-1779040800@imrgpontault.fr
SUMMARY:Normandie avec la Louvière 2026
DESCRIPTION:L’IMRG PONTAULT vous invite à participer au week-end de l’Ascension organisé par l’IMRG La Louvière.Les modalités seront communiquées ultérieurement !!
URL:https://imrgpontault.fr/evenement/normandie-avec-la-louviere/
ATTACH;FMTTYPE=image/jpeg:https://imrgpontault.fr/wp-content/uploads/2025/11/WhatsApp-Image-2026-01-31-at-19.56.21-3.jpeg
END:VEVENT
BEGIN:VEVENT
DTSTART;TZID=Europe/Paris:20260517T080000
DTEND;TZID=Europe/Paris:20260517T180000
DTSTAMP:20260421T162607
CREATED:20251125T143450Z
LAST-MODIFIED:20260202T150102Z
UID:4093-1779004800-1779040800@imrgpontault.fr
SUMMARY:Van Gogh à Auvers sur Oise
DESCRIPTION:L’IMRG vous propose dimanche 17 mai de faire une balade moto à Auvers sur Oise sur les traces de Vincent Van Gogh !Les modalités de cet événement sont à venir.
URL:https://imrgpontault.fr/evenement/van-gogh-a-auvers-sur-oise/
ATTACH;FMTTYPE=image/jpeg:https://imrgpontault.fr/wp-content/uploads/2025/11/WhatsApp-Image-2026-01-31-at-19.56.21-4.jpeg
END:VEVENT
BEGIN:VEVENT
DTSTART;TZID=Europe/Paris:20260522T170000
DTEND;TZID=Europe/Paris:20260525T170000
DTSTAMP:20260421T162607
CREATED:20251125T143610Z
LAST-MODIFIED:20251125T200531Z
UID:4095-1779469200-1779728400@imrgpontault.fr
SUMMARY:Pictave Indian Tour 2026 - ANNULE
DESCRIPTION:Votre IMRG vous propose d’assister à la 1ère édition du PICTAVE INDIAN TOUR 2026 organisé par l’IMRG Poitiers.Au programme : Hébergement\, repas\, soirées et road trips…Réservation libre à venir.Les modalités du séjour seront communiquées ultérieurement.
URL:https://imrgpontault.fr/evenement/pictave-indian-tour-2026/
ATTACH;FMTTYPE=image/jpeg:https://imrgpontault.fr/wp-content/uploads/2025/11/pictave_2026.jpg
END:VEVENT
BEGIN:VEVENT
DTSTART;TZID=Europe/Paris:20260529T140000
DTEND;TZID=Europe/Paris:20260531T170000
DTSTAMP:20260421T162607
CREATED:20251125T143958Z
LAST-MODIFIED:20260202T150308Z
UID:4099-1780063200-1780246800@imrgpontault.fr
SUMMARY:Vercors Ride Spirit 2026
DESCRIPTION:L’IMRG PONTAULT vous propose l’assister à la 1ere édition du VERCORS RIDE SPIRIT du 29 au 31 mai 2025 organisé par l’IMRG Valence Ride Spirit.Inscription libre valenceriderspirit@gmail.comLes modalités du séjour seront communiquées ultérieurement.
URL:https://imrgpontault.fr/evenement/vercors-ride-spirit-2026/
ATTACH;FMTTYPE=image/jpeg:https://imrgpontault.fr/wp-content/uploads/2025/11/WhatsApp-Image-2026-01-31-at-19.58.01.jpeg
END:VEVENT
BEGIN:VEVENT
DTSTART;TZID=Europe/Paris:20260531T080000
DTEND;TZID=Europe/Paris:20260531T170000
DTSTAMP:20260421T162607
CREATED:20251125T144118Z
LAST-MODIFIED:20260202T150444Z
UID:4102-1780214400-1780246800@imrgpontault.fr
SUMMARY:Vallée de Chevreuse - virages et forêt
DESCRIPTION:Pour la sortie du dimanche 31 mai\, l’IMRG vous propose une balade dans la Vallée de Chevreuse.Les modalités de cet événement sont à venir.
URL:https://imrgpontault.fr/evenement/vallee-de-chevreuse-virages-et-foret/
ATTACH;FMTTYPE=image/jpeg:https://imrgpontault.fr/wp-content/uploads/2025/11/WhatsApp-Image-2026-01-31-at-21.10.28.jpeg
END:VEVENT
BEGIN:VEVENT
DTSTART;TZID=Europe/Paris:20260613T080000
DTEND;TZID=Europe/Paris:20260614T170000
DTSTAMP:20260421T162607
CREATED:20251125T144408Z
LAST-MODIFIED:20260316T164129Z
UID:4104-1781337600-1781456400@imrgpontault.fr
SUMMARY:Le Morvan - entre forêt et château
DESCRIPTION:Plus d’informations à venir sur l’évènement.
URL:https://imrgpontault.fr/evenement/le-morvan-entre-foret-et-chateau/
END:VEVENT
BEGIN:VEVENT
DTSTART;TZID=Europe/Paris:20260613T080000
DTEND;TZID=Europe/Paris:20260625T170000
DTSTAMP:20260421T162607
CREATED:20251125T144646Z
LAST-MODIFIED:20260202T150947Z
UID:4106-1781337600-1782406800@imrgpontault.fr
SUMMARY:République Tchèque 2026
DESCRIPTION:L’IMRG PONTAULT vous propose un voyage en République Tchèque.Au programme :– Nancy– Lac de Constance– Innsbruck– Lipno (festival IFR 2026)– Prague– Nuremberg– Sarrebruck13 jours et 2400 kmLes modalités du séjour seront communiquées ultérieurement.
URL:https://imrgpontault.fr/evenement/indian-riders-fest-2026/
ATTACH;FMTTYPE=image/jpeg:https://imrgpontault.fr/wp-content/uploads/2025/11/WhatsApp-Image-2026-01-31-at-21.10.02.jpeg
END:VEVENT
BEGIN:VEVENT
DTSTART;TZID=Europe/Paris:20260628T080000
DTEND;TZID=Europe/Paris:20260628T170000
DTSTAMP:20260421T162607
CREATED:20251125T144939Z
LAST-MODIFIED:20260202T150622Z
UID:4110-1782633600-1782666000@imrgpontault.fr
SUMMARY:Château-Thierry - Les aigles du château
DESCRIPTION:L’IMRG vous propose dimanche 28 juin de devenir fauconnier d’un jour !!Les modalités de cet événement sont à venir !
URL:https://imrgpontault.fr/evenement/chateau-thierry-les-aigles-du-chateau/
ATTACH;FMTTYPE=image/jpeg:https://imrgpontault.fr/wp-content/uploads/2025/11/WhatsApp-Image-2026-01-31-at-19.56.22-2.jpeg
END:VEVENT
BEGIN:VEVENT
DTSTART;TZID=Europe/Paris:20260705T080000
DTEND;TZID=Europe/Paris:20260705T170000
DTSTAMP:20260421T162607
CREATED:20251125T145159Z
LAST-MODIFIED:20251125T145200Z
UID:4112-1783238400-1783270800@imrgpontault.fr
SUMMARY:Punta Bagna 2026
DESCRIPTION:à Courchevel. \n\n\n\nPlus d’informations à venir sur l’évènement.
URL:https://imrgpontault.fr/evenement/punta-bagna-2026/
ATTACH;FMTTYPE=image/jpeg:https://imrgpontault.fr/wp-content/uploads/2025/11/punta-2026.jpg
END:VEVENT
BEGIN:VEVENT
DTSTART;TZID=Europe/Paris:20260711T080000
DTEND;TZID=Europe/Paris:20260714T170000
DTSTAMP:20260421T162607
CREATED:20251125T145934Z
LAST-MODIFIED:20251125T145935Z
UID:4116-1783756800-1784048400@imrgpontault.fr
SUMMARY:Le Puy du Fou - parc et Cinescénie
DESCRIPTION:Plus d’informations à venir sur cet évènement.
URL:https://imrgpontault.fr/evenement/le-puy-du-fou-parc-et-cinescenie/
END:VEVENT
BEGIN:VEVENT
DTSTART;TZID=Europe/Paris:20260725T080000
DTEND;TZID=Europe/Paris:20260725T170000
DTSTAMP:20260421T162607
CREATED:20251125T150145Z
LAST-MODIFIED:20251125T150146Z
UID:4118-1784966400-1784998800@imrgpontault.fr
SUMMARY:Journée avec les Indian Ladies First
DESCRIPTION:Plus d’informations à venir sur cet évènement.
URL:https://imrgpontault.fr/evenement/journee-avec-les-indian-ladies-first/
END:VEVENT
BEGIN:VEVENT
DTSTART;TZID=Europe/Paris:20260830T080000
DTEND;TZID=Europe/Paris:20260830T170000
DTSTAMP:20260421T162607
CREATED:20251125T150357Z
LAST-MODIFIED:20251125T150358Z
UID:4120-1788076800-1788109200@imrgpontault.fr
SUMMARY:Crécy la Chapelle - sur les routes de Seine-et-Marne
DESCRIPTION:Plus d’informations à venir sur cet évènement.
URL:https://imrgpontault.fr/evenement/crecy-la-chapelle-sur-les-routes-de-seine-et-marne/
END:VEVENT
BEGIN:VEVENT
DTSTART;TZID=Europe/Paris:20260903T170000
DTEND;TZID=Europe/Paris:20260906T170000
DTSTAMP:20260421T162607
CREATED:20251125T150535Z
LAST-MODIFIED:20251125T150753Z
UID:4122-1788454800-1788714000@imrgpontault.fr
SUMMARY:SunRide 2026
DESCRIPTION:Votre IMRG vous propose d’assister à la 9ème édition de la SUNRIDE organisée par l’IMRG Var.Au programme : Hébergement\, repas\, soirées et road trips…Réservation libre https://www.facebook.com/share/p/1CENGFzJ21/?mibextid=wwXIfrLes modalités du séjour seront communiquées ultérieurement.
URL:https://imrgpontault.fr/evenement/sunride-2026/
ATTACH;FMTTYPE=image/jpeg:https://imrgpontault.fr/wp-content/uploads/2025/11/sunride_2026.jpg
END:VEVENT
BEGIN:VEVENT
DTSTART;TZID=Europe/Paris:20260913T080000
DTEND;TZID=Europe/Paris:20260913T170000
DTSTAMP:20260421T162607
CREATED:20251125T200706Z
LAST-MODIFIED:20251125T200708Z
UID:4128-1789286400-1789318800@imrgpontault.fr
SUMMARY:Rencontres IMRG
DESCRIPTION:A Pontault. \n\n\n\nPlus d’informations à venir sur cet évènement.
URL:https://imrgpontault.fr/evenement/rencontres-imrg-2/
ATTACH;FMTTYPE=image/png:https://imrgpontault.fr/wp-content/uploads/2025/01/rencontre_IMRG_2025.png
END:VEVENT
BEGIN:VEVENT
DTSTART;TZID=Europe/Paris:20260917T170000
DTEND;TZID=Europe/Paris:20260920T170000
DTSTAMP:20260421T162607
CREATED:20251125T200934Z
LAST-MODIFIED:20251125T200935Z
UID:4130-1789664400-1789923600@imrgpontault.fr
SUMMARY:Occitan Ride 2026
DESCRIPTION:Votre IMRG vous propose d’assister à la 1ère de l’OCCITAN RIDER organisée par l’IMRG Montpellier.Au programme : Hébergement\, repas\, soirées et road trips…Réservation libre.Les modalités du séjour seront communiquées ultérieurement.
URL:https://imrgpontault.fr/evenement/occitan-ride-2026/
ATTACH;FMTTYPE=image/jpeg:https://imrgpontault.fr/wp-content/uploads/2025/11/occitan_ride_2026.jpg
END:VEVENT
BEGIN:VEVENT
DTSTART;TZID=Europe/Paris:20260927T080000
DTEND;TZID=Europe/Paris:20260927T170000
DTSTAMP:20260421T162607
CREATED:20251125T201213Z
LAST-MODIFIED:20251125T201214Z
UID:4133-1790496000-1790528400@imrgpontault.fr
SUMMARY:Laser Ball - Sherwood Parc
DESCRIPTION:Plus d’informations à venir sur cet événèment.
URL:https://imrgpontault.fr/evenement/laser-ball-sherwood-parc/
END:VEVENT
BEGIN:VEVENT
DTSTART;TZID=Europe/Paris:20261011T080000
DTEND;TZID=Europe/Paris:20261011T170000
DTSTAMP:20260421T162607
CREATED:20251125T201323Z
LAST-MODIFIED:20251125T201324Z
UID:4135-1791705600-1791738000@imrgpontault.fr
SUMMARY:La Ferté Milon
DESCRIPTION:Plus d’informations à venir sur cet évènement.
URL:https://imrgpontault.fr/evenement/la-ferte-milon/
END:VEVENT
BEGIN:VEVENT
DTSTART;TZID=Europe/Paris:20261025T080000
DTEND;TZID=Europe/Paris:20261025T170000
DTSTAMP:20260421T162607
CREATED:20251125T201439Z
LAST-MODIFIED:20251125T201441Z
UID:4137-1792915200-1792947600@imrgpontault.fr
SUMMARY:Nogent-sur-Seine
DESCRIPTION:Plus d’informations à venir sur cet évènement.
URL:https://imrgpontault.fr/evenement/nogent-sur-seine-2/
END:VEVENT
BEGIN:VEVENT
DTSTART;TZID=Europe/Paris:20261129T080000
DTEND;TZID=Europe/Paris:20261129T170000
DTSTAMP:20260421T162607
CREATED:20251125T201553Z
LAST-MODIFIED:20260116T215455Z
UID:4139-1795939200-1795971600@imrgpontault.fr
SUMMARY:Assemblée générale 2026
DESCRIPTION:A la concession.
URL:https://imrgpontault.fr/evenement/assemblee-generale-2026/
ATTACH;FMTTYPE=image/png:https://imrgpontault.fr/wp-content/uploads/2025/01/ag_2025.png
END:VEVENT
END:VCALENDAR